BEGIN:VCALENDAR
VERSION:2.0
PRODID:-//Kulturverein der VG Freinsheim e.V. - ECPv6.15.17//NONSGML v1.0//EN
CALSCALE:GREGORIAN
METHOD:PUBLISH
X-WR-CALNAME:Kulturverein der VG Freinsheim e.V.
X-ORIGINAL-URL:https://kulturverein-freinsheim.de
X-WR-CALDESC:Veranstaltungen für Kulturverein der VG Freinsheim e.V.
REFRESH-INTERVAL;VALUE=DURATION:PT1H
X-Robots-Tag:noindex
X-PUBLISHED-TTL:PT1H
BEGIN:VTIMEZONE
TZID:UTC
BEGIN:STANDARD
TZOFFSETFROM:+0000
TZOFFSETTO:+0000
TZNAME:UTC
DTSTART:20250101T000000
END:STANDARD
END:VTIMEZONE
BEGIN:VEVENT
DTSTART;TZID=UTC:20260425T200000
DTEND;TZID=UTC:20260425T220000
DTSTAMP:20260424T142437
CREATED:20250210T134350Z
LAST-MODIFIED:20251020T134554Z
UID:10000033-1777147200-1777154400@kulturverein-freinsheim.de
SUMMARY:25.04.2026Mélange à Deux & Amis
DESCRIPTION:Was passiert\, wenn sich klassische Virtuosität mit leidenschaftlicher Musikkreativität verbindet? Wenn sich eine studierte Oboistin und ein musikalisches Multitalent zusammentun? So entstand Mélange à Deux! \n\n\nGegründet 2017 von Ulrike Albeseder (Oboe\, Blockflöte) und Uwe Hanewald (Akkordeon\, Vocal)\, hat sich das Ensemble zu einem musikalischen Highlight entwickelt. Mit Wolfgang Mayé am Kontrabass und Wolfgang Disch an den Percussions wurde aus dem ursprünglichen Duo ein Quartett\, das seinem Namen alle Ehre macht – eine einzigartige Mélange verschiedenster Musikstile. \n\n\nDie musikalische Reise reicht von den malerischen Straßen Paris‘ über die leidenschaftlichen Tangos von Piazzolla bis hin zu überraschenden Neuinterpretationen aus den Genres Jazz\, Pop und Rock\, darunter Songs von Ian Anderson\, Sting und Metallica. Stücke wie „Skyfall“ und „Nothing Else Matters“ verwandeln sich durch die außergewöhnliche Instrumentierung in ein einzigartiges Hörerlebnis und auch eigene Kompositionen sind ein Bestandteil des Programms. \n \n\n\nKreativer Kopf des Ensembles ist der Pfälzer Uwe Hanewald\, der seit seinem 6. Lebensjahr Musik macht und als Multiinstrumentalist die Arrangements und eigenen Kompositionen in seinem Studio kreiert. An seiner Seite steht Ulrike Albeseder\, deren klassische Ausbildung an den Musikhochschulen Wien und München sich in technischer Perfektion und ausdrucksstarker Performance widerspiegelt. Sie stand unter anderem mit den Wiener Philharmonikern auf den großen Bühnen und konzertierte auf der ganzen Welt von Japan bis Mexiko. Sie spielte mit den Wiener Symphonikern bei den Bregenzer Festspielen und musizierte mit Dirigenten wie Mariss Jansons\, Marcello Viotti\, Franz Welser-Möst uvm. Vervollständigt wird das Ensemble durch Wolfgang Mayé am Kontrabass\, dessen Weg vom Landesjugendjazzorchester Schleswig-Holstein bis zum Weltmusikpreis Querbeet mit der Gruppe Fisfüz führte\, und Wolfgang Disch\, ein studierter Jazzschlagzeuger\, der mit seiner sensiblen Rhythmusarbeit dem Ensemble seinen unverwechselbaren Groove verleiht. Er ist seit seiner Studienzeit als Live- und Studiomusiker tätig und arbeitete mit zahlreichen hochkarätigen Künstlern zusammen. Als Sideman spielte er bei verschiedensten Festivals im In- und Ausland u.a. enjoy jazz\, Slany Jazz Festival (CZ)\, Festival Jazz Amarinois (F) und wirkte bei Produktionen des Theaters im Pfalzbau\, des Capitol Mannheim und der Städtischen Bühne Heidelberg mit. \n\n\nMit Basis in der Pfalz erobert Mélange à Deux die Bühnen Deutschlands und Europas. Konzerte in Frankreich\, Österreich\, der Schweiz und den Niederlanden zeugen von der wachsenden Beliebtheit des Ensembles. Unter Kennern längst kein Geheimtipp mehr\, begeistert die Band ihr Publikum mit einer einzigartigen Mischung aus Virtuosität\, Spielfreude und musikalischer Vielfalt. \n\n\nDie besondere Instrumentierung\, gepaart mit kreativen Arrangements und der spürbaren Spielfreude der Musiker\, macht jeden Auftritt zu einem unvergesslichen Erlebnis. Mélange à Deux & Amis – mehr als nur Musik\, eine Reise durch Kulturen\, Stile und Emotionen.
URL:https://kulturverein-freinsheim.de/veranstaltungen/25-04-2026melange-a-deux-amis
LOCATION:Von-Busch-Hof Freinsheim
CATEGORIES:Veranstaltungen
ATTACH;FMTTYPE=image/jpeg:https://kulturverein-freinsheim.de/wp-content/uploads/2025/10/Melange-a-Deux-Amis-Foto-schwarz-by-Birte-Solheim.jpg
END:VEVENT
END:VCALENDAR