BEGIN:VCALENDAR
VERSION:2.0
PRODID:-//Kulturverein der VG Freinsheim e.V. - ECPv6.15.17//NONSGML v1.0//EN
CALSCALE:GREGORIAN
METHOD:PUBLISH
X-ORIGINAL-URL:https://kulturverein-freinsheim.de
X-WR-CALDESC:Veranstaltungen für Kulturverein der VG Freinsheim e.V.
REFRESH-INTERVAL;VALUE=DURATION:PT1H
X-Robots-Tag:noindex
X-PUBLISHED-TTL:PT1H
BEGIN:VTIMEZONE
TZID:UTC
BEGIN:STANDARD
TZOFFSETFROM:+0000
TZOFFSETTO:+0000
TZNAME:UTC
DTSTART:20250101T000000
END:STANDARD
END:VTIMEZONE
BEGIN:VEVENT
DTSTART;TZID=UTC:20260515T180000
DTEND;TZID=UTC:20260530T170000
DTSTAMP:20260424T142559
CREATED:20250208T214031Z
LAST-MODIFIED:20260305T125557Z
UID:10000019-1778868000-1780160400@kulturverein-freinsheim.de
SUMMARY:15. - 30.5.2026 Literarische Lese Freinsheim
DESCRIPTION:„Wenn ich mir was wünschen dürfte…“ Mit dem Lied von Marlene Dietrich als Motto blickt die Literarische Lese Freinsheim 2026 auf die „Goldenen Zwanziger“ des vergangenen Jahrhunderts zurück. Dabei knüpfen wir an Hoffnungen und Träume an\, an die vielen Neuanfänge und kulturellen Impulse\, die verloren gingen oder in Vergessenheit gerieten. Es hätte auch ganz anders sein können… Mit diesem Konjunktiv suchen wir in unseren Veranstaltungen Antworten auf die Frage nach einer besseren Zukunft. \nZum Motto der Lese gibt es eine Ausstellung mit eigens dazu entstandenen Bildern von Marcus Braun. Mit einer kleinen Serie minimalistischer Schwarz-Weiß Portraits\, inspiriert von ikonischen Künstlerinnen-Photographien der 1920iger Jahre\, nimmt er uns mit in die Gegenwart. Die Bilder präsentieren wir an allen Veranstaltungsorten. \nWas wäre eine Lese ohne Wein? Zu jeder Lesung gibt es ein gutes Tröpfchen\, das Freinsheimer Winzer exklusiv für uns ausgesucht haben. \nAlle Infos und das ausführliche Programm gibt es hier zu finden: www.literarische-lese.de …
URL:https://kulturverein-freinsheim.de/veranstaltungen/literarische-lese-2026
CATEGORIES:Veranstaltungen
ATTACH;FMTTYPE=image/jpeg:https://kulturverein-freinsheim.de/wp-content/uploads/2025/03/Literarische-Lese-2024-4.jpg
END:VEVENT
BEGIN:VEVENT
DTSTART;TZID=UTC:20260515T193000
DTEND;TZID=UTC:20260515T213000
DTSTAMP:20260424T142559
CREATED:20250207T170010Z
LAST-MODIFIED:20260227T134323Z
UID:10000039-1778873400-1778880600@kulturverein-freinsheim.de
SUMMARY:15.5.2026 Harald Jähner: Höhenrausch. Das kurze Leben zwischen den Kriegen\, Lesung
DESCRIPTION:Harald Jähners Buch ist wie geschaffen zur Einstimmung in unser Thema. Spannend und faktenreich erzählt er über die 20er Jahre: „Ein Kaleidoskop der Alltagskultur“. Kapitel für Kapitel entsteht ein atmosphärisches Bild der Weimarer Republik. Der Autor „versteht es meisterhaft\, die tragischen\, schrecklichen\, komischen und aufbauenden Geschichten derer zu erzählen\, die dabei waren“ (The Times). „Schicksale in der bitteren inflationären Zeit\, in der auf dem Vulkan getanzt wurde“\, (Klaus Bittermann\, taz). Dass vieles sehr aktuell anmutet\, gibt Stoff zum Nachdenken – die Antworten im 21. Jahrhundert werden hoffentlich ganz andere sein.
URL:https://kulturverein-freinsheim.de/veranstaltungen/harald-jaehner-hoehenrausch
LOCATION:Von-Busch-Hof Freinsheim
CATEGORIES:Veranstaltungen
ATTACH;FMTTYPE=image/png:https://kulturverein-freinsheim.de/wp-content/uploads/2025/03/harald-jaehner.png
END:VEVENT
BEGIN:VEVENT
DTSTART;TZID=UTC:20260516T190000
DTEND;TZID=UTC:20260516T210000
DTSTAMP:20260424T142559
CREATED:20250207T165017Z
LAST-MODIFIED:20260227T135943Z
UID:10000041-1778958000-1778965200@kulturverein-freinsheim.de
SUMMARY:16.5.2026 Rabea Edel: Portrait meiner Mutter mit Geistern\, Multimediale Lesung
DESCRIPTION:Die Autorin beschreibt die Arbeit an ihrem Roman als Reise in die eigene Familiengeschichte\, jedoch sei es keine autobiografische Erzählung. In der multimedialen Lesung gibt sie Einblicke in die Recherche\, zeigt Bilder\, erzählt Persönliches und Zeitgeschichtliches. Rabea Edel zeichnet ein einfühlsames Portrait ihrer Mutter und erzählt ein ganzes Jahrhundert. Die Geister aus der Vergangenheit\, bereits im Titel beschworen\, werden lebendig: Eindrückliche Bilder für das Unausgesprochene und Verdrängte in den Lebensgeschichten der Frauen. Ein Buch von der Kraft der Liebe und der Rückeroberung der eigenen Geschichte durch die Sprache. Es baut Brücken zwischen Generationen und regt zum Nachdenken an über das von den Eltern Ererbte und über das\, was wir selbst überliefern oder verschweigen.
URL:https://kulturverein-freinsheim.de/veranstaltungen/rabea-edel-lesung
LOCATION:Von-Busch-Hof Freinsheim
CATEGORIES:Veranstaltungen
ATTACH;FMTTYPE=image/png:https://kulturverein-freinsheim.de/wp-content/uploads/2025/03/Rabea-Edel.png
END:VEVENT
BEGIN:VEVENT
DTSTART;TZID=UTC:20260517T190000
DTEND;TZID=UTC:20260517T210000
DTSTAMP:20260424T142559
CREATED:20250207T164535Z
LAST-MODIFIED:20260227T140739Z
UID:10000042-1779044400-1779051600@kulturverein-freinsheim.de
SUMMARY:17.5.2026 Mitu Sophie Kühmel: Hannah\, Lesung
DESCRIPTION:Der Roman erzählt die Liebesgeschichte zwischen der Dadaistin Hannah Höch und der Schriftstellerin Til Brugmann. Es sind die 20er Jahre des 20. Jahrhunderts\, als die beiden sich begegnen. Behutsam und poetisch „federleicht hingetupft“\, setzt Miku Sophie Kühmel das Bild ihrer Beziehung zusammen\, ohne das sich anbahnende Grauen der Zwischenkriegszeit auszublenden. Wie in einer Collage fügt die Autorin Gefundenes zueinander: Privates\, Politisches und Künstlerisches\, Zitate\, Gedichte\, Briefe\, Listen\, eigene Wortschöpfungen. Rezensenten nennen das Buch „ein großes literarisches Geschenk an Hannah Höch“. Für die Erfinderin der Fotocollage hat Miku Sophie Kühmel eine sprachlich und optisch wunderbar entsprechende Form gefunden.
URL:https://kulturverein-freinsheim.de/veranstaltungen/mitu-sophie-kuehmel-lesung
LOCATION:Von-Busch-Hof Freinsheim
CATEGORIES:Veranstaltungen
ATTACH;FMTTYPE=image/png:https://kulturverein-freinsheim.de/wp-content/uploads/2025/02/Kuehmel.png
END:VEVENT
BEGIN:VEVENT
DTSTART;TZID=UTC:20260519T200000
DTEND;TZID=UTC:20260519T220000
DTSTAMP:20260424T142559
CREATED:20250207T164310Z
LAST-MODIFIED:20260227T141955Z
UID:10000010-1779220800-1779228000@kulturverein-freinsheim.de
SUMMARY:19.5.2026 Film: Lotte am Bauhaus
DESCRIPTION:Lotte am Bauhaus\, in Kooperation mit KRN – Kultur Rhein-Neckar \nRegie: Gregor Schnitzler\, mit Alicia von Rittberg\, Noah Saavedra\, Jörg Hartmann\, Deutschland 2018\, 105 Min. \n„Ein klug reduziertes Erzählkonzept: eine Frau\, die die Gesellschaft mitgestalten will“. Weimar 1921\, das Bauhaus unter der Leitung von Walter Gropius\, Lotte\, eine junge Frau\, die dort einen Studienplatz bekommt. Anfangs unbekümmert\, forsch und begeisterungsfähig\, nicht weniger kreativ als die männlichen Studenten\, versucht sie\, gegen alle Widerstände\, Autonomie\, Liebe\, Mutterschaft und Beruf unter einen Hut zu bringen. Selbstbewusst\, couragiert\, stolz und kämpferisch geht sie ihren Weg\, auch als das Bauhaus immer stärker unter politischen Druck gerät und Walter Gropius entscheidet\, mit dem Bauhaus nach Dessau zu ziehen.
URL:https://kulturverein-freinsheim.de/veranstaltungen/film-lotte-am-bauhaus
LOCATION:Von-Busch-Hof Freinsheim
CATEGORIES:Veranstaltungen
ATTACH;FMTTYPE=image/png:https://kulturverein-freinsheim.de/wp-content/uploads/2025/03/lotte-am-bauhaus.png
END:VEVENT
BEGIN:VEVENT
DTSTART;TZID=UTC:20260525T140000
DTEND;TZID=UTC:20260525T163000
DTSTAMP:20260424T142559
CREATED:20250207T164013Z
LAST-MODIFIED:20260305T125847Z
UID:10000043-1779717600-1779726600@kulturverein-freinsheim.de
SUMMARY:25.5.2026 Poetische Weinbergwanderung mit Lesung auf dem Hahnenplatz
DESCRIPTION:Treffpunkt: Stadtbücherei Freinsheim \nHasan Özdemir rezitiert auf dem Weg durch die Weinberge aus seinem neuen Lyrikband „Fragmentarische Unruhe“ Palatinisches\, Anatolisches\, Ligurisches\, Klassisches und Aphoristisches. \nAuf dem Hahnenplatz zeigen zwei Stipendiatinnen des Künstlerhauses Edenkoben ihre neuesten Arbeiten: Julia Pfeifer präsentiert einen Auszug aus ihrem aktuellen Romanprojekt „Das Wetter im Zimmer“. Lea Streisand liest aus „Berlinerisch – Watt denn\, icke?“ (Dudenverlag\, 2026) und aus ihren aktuellen Hörkolumnen bei radioeins (rbb) über das Leben als Berlinerin in der Pfalz.
URL:https://kulturverein-freinsheim.de/veranstaltungen/poetische-weinbergwanderung
LOCATION:Kelterhaus Freinsheim
CATEGORIES:Veranstaltungen
ATTACH;FMTTYPE=image/jpeg:https://kulturverein-freinsheim.de/wp-content/uploads/2025/03/Freinsheim-Weinberge-1.jpg
END:VEVENT
BEGIN:VEVENT
DTSTART;TZID=UTC:20260529T190000
DTEND;TZID=UTC:20260529T210000
DTSTAMP:20260424T142559
CREATED:20250207T163505Z
LAST-MODIFIED:20260227T141752Z
UID:10000044-1780081200-1780088400@kulturverein-freinsheim.de
SUMMARY:29.5.2026 Susanne Goga: Berlinkrimis um Kommissar Leo Wechsler\, Lesung
DESCRIPTION:Susanne Gogas Krimis zeichnen ein Panorama vom Berlin der Weimarer Republik. „Mich interessieren auch immer politische Aspekte\, dass 1933 kein abrupter Bruch war\, sondern der Endpunkt einer langen Entwicklung weg von der Demokratie“\, betont die Autorin. Leo Wechsler ermittelt in den unterschiedlichsten Milieus und die Lebensläufe der Figuren liefern Bilder einer Zeit im Aufbruch\, ein Berlin auch abseits der Klischees von den „Goldenen 20ern“ – mit allen damit verbundenen Widersprüchen. Die Autorin liest Texte aus ihren Romanen und erzählt über Kultur\, Frauenemanzipation\, Berlin als Pressestadt und queeren Ort\, über Nachtleben und Mode – und über mögliche Parallelen zur Gegenwart.
URL:https://kulturverein-freinsheim.de/veranstaltungen/susanne-goga-lesung
LOCATION:Von-Busch-Hof Freinsheim
CATEGORIES:Veranstaltungen
ATTACH;FMTTYPE=image/png:https://kulturverein-freinsheim.de/wp-content/uploads/2025/03/Susanne-Goga.png
END:VEVENT
BEGIN:VEVENT
DTSTART;TZID=UTC:20260530T190000
DTEND;TZID=UTC:20260530T210000
DTSTAMP:20260424T142559
CREATED:20250207T163035Z
LAST-MODIFIED:20260305T125936Z
UID:10000045-1780167600-1780174800@kulturverein-freinsheim.de
SUMMARY:30.5.2026 Volker Weidermann: Wenn ich eine Wolke wäre. Mascha Kaleko und die Reise ihres Lebens\, Lesung
DESCRIPTION:Siebzehn Jahre nachdem Mascha Kaléko in letzter Minute vor den Nazis geflohen war\, reist sie nach Deutschland\, im Gepäck eine bange Hoffnung auf Zukunft. Das politische Klima der 50er Jahre\, die Verdrängung der Vergangenheit\, das Schweigen – und dass sie bei alldem euphorisch gefeiert wird: Das erzeugt eine tiefe innere Zerrissenheit. Sie schwankt zwischen Entsetzen und Hoffnung\, Glück und Angst. Volker Weidermann erzählt mit großem Einfühlungsvermögen und macht mit sorgsam ausgewählten Briefen und Gedichten Mascha Kaléko als Dichterin und Mensch hautnah erlebbar. „Ein wunderbares Buch\, das eine Frau auferstehen lässt\, die unsere Gegenwart dringend brauchen könnte.“ (Wolfgang Popp\, ORF)
URL:https://kulturverein-freinsheim.de/veranstaltungen/volker-weidermann-lesung
LOCATION:Von-Busch-Hof Freinsheim
CATEGORIES:Veranstaltungen
ATTACH;FMTTYPE=image/png:https://kulturverein-freinsheim.de/wp-content/uploads/2025/03/Weidermann.png
END:VEVENT
BEGIN:VEVENT
DTSTART;TZID=UTC:20260531T110000
DTEND;TZID=UTC:20260531T123000
DTSTAMP:20260424T142559
CREATED:20250207T162523Z
LAST-MODIFIED:20260228T114505Z
UID:10000046-1780225200-1780230600@kulturverein-freinsheim.de
SUMMARY:31.5.2026 Kindertheater ClownWerk: Babo einfach zauberhaft
DESCRIPTION:Morgen hat Babo sein Debut im Zirkus und jetzt muss er mal ganz genau nachdenken\, was er da zeigen will: was mit Musik oder mit Zauberei oder Jonglage? Und was sagt sein Freund\, der Hase dazu? Eine bezaubernde Show nimmt ihren Lauf\, mit Babo\, seinem Hasen und Live-Musik. Wenn Clowns zaubern\, wird es immer irgendwie komisch: Tücher\, die durch die Luft schweben\, Bälle\, die sich selbstständig machen\, tolle magische Tricks\, die nicht nur das Publikum\, sondern auch Babo selber verblüffen. In seiner rührend komischen Art versucht Clown Babo in seiner Show den Überblick zu behalten… \nAb 4 Jahre
URL:https://kulturverein-freinsheim.de/veranstaltungen/kindertheater-clownwerk
LOCATION:Retzerpark
CATEGORIES:Veranstaltungen
ATTACH;FMTTYPE=image/png:https://kulturverein-freinsheim.de/wp-content/uploads/2025/03/babo-clown.png
END:VEVENT
BEGIN:VEVENT
DTSTART;TZID=UTC:20260531T170000
DTEND;TZID=UTC:20260531T190000
DTSTAMP:20260424T142559
CREATED:20250207T162041Z
LAST-MODIFIED:20260228T114431Z
UID:10000047-1780246800-1780254000@kulturverein-freinsheim.de
SUMMARY:31.5.2026 Poetry tanzt Tango: "Irgendwas mit Sehnsucht"
DESCRIPTION:Eine Poetin und ein Tango-Duo treffen aufeinander. Zettel fliegen. Die erste Geige ist verstimmt. Der Bass gibt Kontra. Wer begleitet hier eigentlich wen? Nähe und Distanz\, Getrenntheit und Verbundenheit\, Einzigartiges und Alltägliches\, Freude und Schmerz – das ewige Hin und Her im Trubel des Lebens. In einer „Collage à trois“ verwebt das Musik- und Theater-Trio Gedichttexte und Tangomusik mit szenischen Bildern. Entschleunigung und Schwung verlieren ihren Widerspruch\, und es sprudeln Sinnlichkeiten aus Worten und Taten. Die Sehnsucht schmilzt im Scheinwerferlicht und versickert zwischen den Zeilen. \nDaniela Daub (Texte / Tuba)\, Beatrice Hutter (Akkordeon\, Violine)\, Axel Wienker (Kontrabass\, Gitarre)
URL:https://kulturverein-freinsheim.de/veranstaltungen/poetry-slam
LOCATION:Retzerpark
CATEGORIES:Veranstaltungen
ATTACH;FMTTYPE=image/jpeg:https://kulturverein-freinsheim.de/wp-content/uploads/2025/03/Poetry_tanzt_Tango-Pressefoto-im_Freien-Foto_Benjamin_Kessler.jpg
END:VEVENT
END:VCALENDAR